BEGIN:VCALENDAR
VERSION:2.0
PRODID:-//Erasmus University Rotterdam//Event calender//EN
X-WR-TIMEZONE:Europe/Amsterdam
X-WR-CALNAME:Erasmus University Rotterdam - Event calender
BEGIN:VTIMEZONE
TZID:Europe/Amsterdam
X-LIC-LOCATION:Europe/Amsterdam
BEGIN:DAYLIGHT
TZOFFSETFROM:+0100
TZOFFSETTO:+0200
TZNAME:CEST
DTSTART:19700329T020000
RRULE:FREQ=YEARLY;BYMONTH=3;BYDAY=-1SU
END:DAYLIGHT
BEGIN:STANDARD
TZOFFSETFROM:+0200
TZOFFSETTO:+0100
TZNAME:CET
DTSTART:19701025T030000
RRULE:FREQ=YEARLY;BYMONTH=10;BYDAY=-1SU
END:STANDARD
END:VTIMEZONE
BEGIN:VEVENT
DTSTART;TZID=Europe/Amsterdam:20240429T113000
DTEND;TZID=Europe/Amsterdam:20240429T123000
DTSTAMP:20260423T041111Z
UID:MTcxNDM4MzAwMF8xNzE0Mzg2NjAwX1BlZXIgUGVyY2VwdGlvbnMgYW5kIFN0dWRlbnRz4oCZIEludmVzdG1lbnRzIGluIFNjaG9vbHdvcms=
SUMMARY:Peer Perceptions and Students’ Investments in Schoolwork
DESCRIPTION:For more information see https://www.eur.nl/en/events/peer-perceptions-and-students-investments-schoolwork-2024-04-29
LOCATION:Room: 2-18 | Building: Polak Building
END:VEVENT
END:VCALENDAR
